BEGIN:VCALENDAR
VERSION:2.0
PRODID:-//wp-events-plugin.com//7.2.3.1//EN
TZID:Europe/Madrid
X-WR-TIMEZONE:Europe/Madrid
BEGIN:VEVENT
UID:6@tenorioruralbootcamp.com
DTSTART;TZID=Europe/Madrid:20250503T213000
DTEND;TZID=Europe/Madrid:20250503T223000
DTSTAMP:20250413T154549Z
URL:https://www.tenorioruralbootcamp.com/eventos/iv-carreira-da-muller-de-
 pontevedra/
SUMMARY:IV Carreira da Muller de Pontevedra
DESCRIPTION:[:gl]A Carreira da Muller de Pontevedra é unha carreira popula
 r anual organizada dende 2022 polo Diario de Pontevedra a través da súa 
 agrupación deportiva HQR! na que o recadado polas inscricións vai destin
 ado á loita contra o cancro de mama.\n\nÉ un evento memorable para Tenor
 io Rural Bootcamp\, pois a edición de 2023 supuxo a nosa primeira partici
 pación coma asociación ¡e gañamos o premio ó grupo máis numeroso!\n\
 nMás información: Diario de Pontevedra / Inscricións[:]
ATTACH;FMTTYPE=image/jpeg:https://www.tenorioruralbootcamp.com/wp-content/
 uploads/2023/05/TRB_IICarreiradaMuller_premiogrupo_JavierCervera-Mercadill
 o.jpg
CATEGORIES:Carreira popular
LOCATION:Gran Vía de Montero Ríos\, Gran Vía de Montero Ríos\, Ponteved
 ra\, Pontevedra\, 36001\, Galicia\, Spain
X-APPLE-STRUCTURED-LOCATION;VALUE=URI;X-ADDRESS=Gran Vía de Montero Ríos\
 , Pontevedra\, Pontevedra\, 36001\, Galicia\, Spain;X-APPLE-RADIUS=100;X-T
 ITLE=Gran Vía de Montero Ríos:geo:0,0
END:VEVENT
BEGIN:VTIMEZONE
TZID:Europe/Madrid
X-LIC-LOCATION:Europe/Madrid
BEGIN:DAYLIGHT
DTSTART:20250330T030000
TZOFFSETFROM:+0100
TZOFFSETTO:+0200
TZNAME:CEST
END:DAYLIGHT
END:VTIMEZONE
END:VCALENDAR