BEGIN:VCALENDAR
VERSION:2.0
PRODID:-//wp-events-plugin.com//7.2.3.1//EN
TZID:Europe/Madrid
X-WR-TIMEZONE:Europe/Madrid
BEGIN:VEVENT
UID:1@tenorioruralbootcamp.com
DTSTART;TZID=Europe/Madrid:20230630T170000
DTEND;TZID=Europe/Madrid:20230630T190000
DTSTAMP:20230628T175558Z
URL:https://www.tenorioruralbootcamp.com/es/eventos/iniciacion-o-paddle-su
 rf-no-lerez-con-baybaysurf/
SUMMARY:[:gl]Iniciación ó paddle surf no Lérez con Baybaysurf[:es]Inicia
 ción al paddle surf en el Lérez con Baybaysurf[:]
DESCRIPTION:[:gl]*PRAZAS ESGOTADAS*\n\nO venres 30 de xuño de 2023\, a par
 tir das 17 horas\, iniciarémonos no paddle surf da man de Baybaysurf no r
 ío Lérez nunha praia fluvial aínda por determinar.\n\nPrezos: 13 EUR so
 cios e menores de idade. 25 EUR adultos non socios.[:es]*PLAZAS AGOTADAS*\
 n\nEl viernes 30 de junio de 2023\, a partir de las 17 horas\, nos iniciar
 emos en el paddle surf de la mano de Baybaysurf en el río Lérez en una p
 laya fluvial aún sin determinar (Calvelo o Lodeiro).\n\nPrecios: 13 EUR s
 ocios y menores de edad. 25 EUR adultos no socios.[:]
ATTACH;FMTTYPE=image/jpeg:https://www.tenorioruralbootcamp.com/wp-content/
 uploads/2023/06/paddlesurf_2023_06_30.png
CATEGORIES:Actividades contratadas
END:VEVENT
BEGIN:VTIMEZONE
TZID:Europe/Madrid
X-LIC-LOCATION:Europe/Madrid
BEGIN:DAYLIGHT
DTSTART:20230326T030000
TZOFFSETFROM:+0100
TZOFFSETTO:+0200
TZNAME:CEST
END:DAYLIGHT
END:VTIMEZONE
END:VCALENDAR