BEGIN:VCALENDAR
VERSION:2.0
PRODID:-//wp-events-plugin.com//7.2.3.1//EN
TZID:Europe/Madrid
X-WR-TIMEZONE:Europe/Madrid
BEGIN:VEVENT
UID:4@tenorioruralbootcamp.com
DTSTART;TZID=Europe/Madrid:20241013T100000
DTEND;TZID=Europe/Madrid:20241013T130000
DTSTAMP:20250413T153234Z
URL:https://www.tenorioruralbootcamp.com/en/eventos/vi-carreira-contra-o-c
 ancro-pontevedra/
SUMMARY:[:gl]VI Carreira contra o cancro Pontevedra[:]
DESCRIPTION:
ATTACH;FMTTYPE=image/jpeg:https://www.tenorioruralbootcamp.com/wp-content/
 uploads/2025/01/pontevedra_contraocancro_2024.jpg
CATEGORIES:Carreira popular
LOCATION:Gran Vía de Montero Ríos\, Gran Vía de Montero Ríos\, Ponteved
 ra\, Pontevedra\, 36001\, Galicia\, Spain
X-APPLE-STRUCTURED-LOCATION;VALUE=URI;X-ADDRESS=Gran Vía de Montero Ríos\
 , Pontevedra\, Pontevedra\, 36001\, Galicia\, Spain;X-APPLE-RADIUS=100;X-T
 ITLE=Gran Vía de Montero Ríos:geo:0,0
END:VEVENT
BEGIN:VTIMEZONE
TZID:Europe/Madrid
X-LIC-LOCATION:Europe/Madrid
BEGIN:DAYLIGHT
DTSTART:20240331T030000
TZOFFSETFROM:+0100
TZOFFSETTO:+0200
TZNAME:CEST
END:DAYLIGHT
END:VTIMEZONE
END:VCALENDAR